BEGIN:VCALENDAR
VERSION:2.0
PRODID:-//Best Friends Fur Ever - ECPv6.15.20//NONSGML v1.0//EN
CALSCALE:GREGORIAN
METHOD:PUBLISH
X-WR-CALNAME:Best Friends Fur Ever
X-ORIGINAL-URL:https://www.bestfriendsfurever.com
X-WR-CALDESC:Events for Best Friends Fur Ever
REFRESH-INTERVAL;VALUE=DURATION:PT1H
X-Robots-Tag:noindex
X-PUBLISHED-TTL:PT1H
BEGIN:VTIMEZONE
TZID:America/New_York
BEGIN:DAYLIGHT
TZOFFSETFROM:-0500
TZOFFSETTO:-0400
TZNAME:EDT
DTSTART:20190310T070000
END:DAYLIGHT
BEGIN:STANDARD
TZOFFSETFROM:-0400
TZOFFSETTO:-0500
TZNAME:EST
DTSTART:20191103T060000
END:STANDARD
BEGIN:DAYLIGHT
TZOFFSETFROM:-0500
TZOFFSETTO:-0400
TZNAME:EDT
DTSTART:20200308T070000
END:DAYLIGHT
BEGIN:STANDARD
TZOFFSETFROM:-0400
TZOFFSETTO:-0500
TZNAME:EST
DTSTART:20201101T060000
END:STANDARD
BEGIN:DAYLIGHT
TZOFFSETFROM:-0500
TZOFFSETTO:-0400
TZNAME:EDT
DTSTART:20210314T070000
END:DAYLIGHT
BEGIN:STANDARD
TZOFFSETFROM:-0400
TZOFFSETTO:-0500
TZNAME:EST
DTSTART:20211107T060000
END:STANDARD
BEGIN:DAYLIGHT
TZOFFSETFROM:-0500
TZOFFSETTO:-0400
TZNAME:EDT
DTSTART:20220313T070000
END:DAYLIGHT
BEGIN:STANDARD
TZOFFSETFROM:-0400
TZOFFSETTO:-0500
TZNAME:EST
DTSTART:20221106T060000
END:STANDARD
END:VTIMEZONE
BEGIN:VEVENT
DTSTART;VALUE=DATE:20210101
DTEND;VALUE=DATE:20210201
DTSTAMP:20260425T105444
CREATED:20201117T211607Z
LAST-MODIFIED:20221024T190234Z
UID:3211-1609459200-1612137599@www.bestfriendsfurever.com
SUMMARY:Share the Warmth
DESCRIPTION:Best Friends Fur Ever will be a donation site for Share the Warmth at our Cockeysville location in January 2021. \nJoin Best Friends Fur Ever and The Education Foundation of Baltimore County Public Schools in the Share the Warmth Event this winter! The purpose of the event is: \n\nTo provide Baltimore County Public School students who need winter accessories to keep warm\, safe\, and healthy during the coldness of winter.\nTo provide health and wellness supplies and resources to classrooms to decrease and eliminate the spread of germs from one student to another or one household to another.\n\nMake your donation of winter accessories and health and wellness resources for Baltimore County Public Schools students in need at: \n\n\n\nThe Exchangeree in White Marsh the 2nd and 4th Tuesday from 10am – 4pm through January 5th.\nThe Hallmark Store in THE AVENUE at White Marsh Monday – Sunday from 9am – 9pm through January 10th.\nBest Friends Fur Ever Cockeysville location Monday – Sunday from 7am – 6:30pm through January 31st.\n\n\n\nItems to Collect (all sizes and genders needed): \n\nHats\nScarves\nMittens & Gloves\nSocks\nBoxes or individual packages of Kleenex\nHand Sanitizer\nWipes\n\nMonetary donations are also accepted. \nYou may donate online here. \nOR \nYou may make checks payable and send to: \nThe Education Foundation of Baltimore County Public Schools\, Inc.\n105 W. Chesapeake Avenue\, Suite B-1\nTowson\, MD 21204
URL:https://www.bestfriendsfurever.com/event/share-the-warmth/
ATTACH;FMTTYPE=image/jpeg:https://www.bestfriendsfurever.com/wp-content/uploads/2020/11/share-the-warmth-1-1.jpg
END:VEVENT
BEGIN:VEVENT
DTSTART;VALUE=DATE:20201231
DTEND;VALUE=DATE:20210101
DTSTAMP:20260425T105444
CREATED:20201112T171120Z
LAST-MODIFIED:20221024T190234Z
UID:3199-1609372800-1609459199@www.bestfriendsfurever.com
SUMMARY:Jingle and Mingle with Harford County Chamber of Commerce
DESCRIPTION:When: Now – December 31\, 2020 \nAs a proud member of The Harford County Chamber of Commerce\, Best Friends Fur Ever is sponsoring the 2020 Jingle and Mingle Event! \nThis event is virtual now through the end of December. We simply encourage our customers to shop small and shop local when completing your holiday list. A full directory of Harford County Chamber of Commerce members can be found here: https://business.harfordchamber.org/list/ \n 
URL:https://www.bestfriendsfurever.com/event/jingle-and-mingle/
ATTACH;FMTTYPE=image/png:https://www.bestfriendsfurever.com/wp-content/uploads/2020/11/jingle-and-mingle-1.png
END:VEVENT
BEGIN:VEVENT
DTSTART;VALUE=DATE:20201209
DTEND;VALUE=DATE:20210116
DTSTAMP:20260425T105444
CREATED:20201209T140048Z
LAST-MODIFIED:20221024T190234Z
UID:3282-1607472000-1610755199@www.bestfriendsfurever.com
SUMMARY:Baltimore Humane Society Wish List Donation Drive (Cockeysville Location)
DESCRIPTION:The Baltimore Humane Society makes every effort to ensure the comfort of each and every pet that comes to them. It’s part of their promise to care for\, protect\, and find a loving forever home for each pet within their organization. Like most non-profits\, they thrive on generous support from kind individuals. \nClick here to review our wish list
URL:https://www.bestfriendsfurever.com/event/baltimore-humane-society-wish-list-donation-drive/
LOCATION:Cockeysville\, 246 Cockeysville Rd\, Cockeysville\, MD\, 21030\, United States
ATTACH;FMTTYPE=image/png:https://www.bestfriendsfurever.com/wp-content/uploads/2020/12/baltimore-humane-society-wish-list-3-1.png
END:VEVENT
BEGIN:VEVENT
DTSTART;VALUE=DATE:20201209
DTEND;VALUE=DATE:20210101
DTSTAMP:20260425T105444
CREATED:20201209T135441Z
LAST-MODIFIED:20260213T164002Z
UID:3277-1607472000-1609459199@www.bestfriendsfurever.com
SUMMARY:Deck The Paws 2020 (Joppa Location)
DESCRIPTION:As a proud supporter of The Harford County Humane Society\, Best Friends Fur Ever is sponsoring the 2020 Deck The Paws Fundraising Event. \nThis event is virtual now through the end of December. We are asking our Joppa Clients to donate $1.00 to purchase a PAW for our lobby with their dog’s name or in memory of a dog that lives over the rainbow bridge. All donations will be made weekly to the Harford Country Humane Society to help care for dogs in need & place them in forever homes. \n 
URL:https://www.bestfriendsfurever.com/event/deck-the-paws/
LOCATION:Joppa\, 1009 Philadelphia Road\, Joppa\, MD\, 21085\, United States
ATTACH;FMTTYPE=image/png:https://www.bestfriendsfurever.com/wp-content/uploads/2020/12/BestFriendFurEver_HarfordCountyHumaneSociety_DonationPaws_Print-e1607535241284-1.png
END:VEVENT
BEGIN:VEVENT
DTSTART;VALUE=DATE:20201126
DTEND;VALUE=DATE:20201127
DTSTAMP:20260425T105444
CREATED:20201112T165254Z
LAST-MODIFIED:20221111T151932Z
UID:3187-1606348800-1606435199@www.bestfriendsfurever.com
SUMMARY:Baltimore Humane Society Turkey Dog Trot Thanksgiving Day
DESCRIPTION:About Event\nOur Best Friends Fur Ever Cockeysville team will be walking their Thanksgiving meals off – literally. We will be tracking steps taken on their dog daycare shifts and asking their friends and family for donations based on every 1\,000 steps taken. \nWe will be awarding special prizes for our team members who track the highest numbers of steps and for collecting the most donations for the Baltimore Humane Society. \nIf you’d like to donate\, simply drop a check (sorry – no cash) made out to the Baltimore Humane Society at our Front Desk Concierges during drop-offs and pick-ups any day during November. \n\n\nAbout Baltimore Humane Society\nA crucial member of the Baltimore community for nearly one hundred years\, the Baltimore Humane Society is an independent 501c3 non-profit animal shelter offering services for all stages of pet ownership. The organization works diligently to help homeless animals find necessary medical treatment\, behavioral training\, and\, ultimately\, a loving forever home. Adoption fees are halved for senior animals and modified or waived for senior citizens\, first responders\, and military personnel. The clinic offers free and low-cost spay/neuter\, vaccination\, and wellness services to the public. The Bmore Kind Pet Food Bank offers support for pet owners experiencing financial struggles\, allowing them to keep their pets at home. The memorial park offers end-of-life options for beloved pets as well as bereavement support and grief counseling.
URL:https://www.bestfriendsfurever.com/event/baltimore-human-society-turkey-dog-trot/
ATTACH;FMTTYPE=image/png:https://www.bestfriendsfurever.com/wp-content/uploads/2020/11/bbf-turkey-dog-trot-1.png
END:VEVENT
BEGIN:VEVENT
DTSTART;TZID=America/New_York:20201022T160000
DTEND;TZID=America/New_York:20201022T170000
DTSTAMP:20260425T105444
CREATED:20200922T144004Z
LAST-MODIFIED:20200922T144004Z
UID:2727-1603382400-1603386000@www.bestfriendsfurever.com
SUMMARY:Drools For Schools - Facebook LIVE
DESCRIPTION:Join Best Friends Fur Ever and Baltimore County Public Schools Education Foundation Executive Director & Mom of the Greatest Olympian Of All Time\, Debbie Phelps\, for a Teacher Resource Center Donation Event. We are literally going to the dogs for a 1/2 hour to attract your attention\, tug at your heartstrings\, and tempt you with tiny\, drooling faces to help raise funds\, tools\, and resources for Baltimore Teachers and Families in need of the community’s help. Join Special Guest Host Debbie Phelps as we demonstrate LIVE dog arts & crafts\, introduce you to our doggone cute faces\, and raise donations. If you share the LIVE EVENT on October 22nd\, you’ll be entered to win one free week of dog daycare!
URL:https://www.bestfriendsfurever.com/event/drools-for-schools-facebook-live/
ATTACH;FMTTYPE=image/jpeg:https://www.bestfriendsfurever.com/wp-content/uploads/2020/09/drools-for-schools-1.jpg
END:VEVENT
BEGIN:VEVENT
DTSTART;TZID=America/New_York:20200814T123000
DTEND;TZID=America/New_York:20200814T130000
DTSTAMP:20260425T105444
CREATED:20200807T161928Z
LAST-MODIFIED:20221111T151747Z
UID:2462-1597408200-1597410000@www.bestfriendsfurever.com
SUMMARY:Out of This World Dance - Facebook LIVE
DESCRIPTION:Join Best Friends Fur Ever Summer Campers for our grand finale of  “Space Week”. We will have music\, dancing\, meet the handlers and four-legged space creatures having a bubble\, foam and splash down party – LIVE on Friday\, August 14th. \n\n\nDon’t miss the fun!\nView Event on Facebook
URL:https://www.bestfriendsfurever.com/event/out-of-this-world-dance-facebook-live/
ATTACH;FMTTYPE=image/jpeg:https://www.bestfriendsfurever.com/wp-content/uploads/2020/08/out-of-this-world-3-1.jpg
END:VEVENT
BEGIN:VEVENT
DTSTART;TZID=America/New_York:20200710T143000
DTEND;TZID=America/New_York:20200710T150000
DTSTAMP:20260425T105444
CREATED:20200709T191548Z
LAST-MODIFIED:20200709T191548Z
UID:2441-1594391400-1594393200@www.bestfriendsfurever.com
SUMMARY:Summer Camp Pirates On Parade Party - Facebook LIVE
DESCRIPTION:FRIDAY\, JULY 10th at 2:30 PM – 3 PM\n\n\nWe are celebrating the end of SUMMER CAMP week #2 – Pirate Week.\nJoin Us as we have a Pirate Parade Party with our campers and our daycare puppers!\nDon’t Miss It Matey!\n\nFACEBOOK LIVE EVENT
URL:https://www.bestfriendsfurever.com/event/summer-camp-pirates-on-parade-party-facebook-live/
ATTACH;FMTTYPE=image/png:https://www.bestfriendsfurever.com/wp-content/uploads/2020/07/Screen-Shot-2020-07-01-at-7.14.57-PM-1.png
END:VEVENT
END:VCALENDAR