BEGIN:VCALENDAR
VERSION:2.0
PRODID:-//Best Friends Fur Ever - ECPv6.15.20//NONSGML v1.0//EN
CALSCALE:GREGORIAN
METHOD:PUBLISH
X-ORIGINAL-URL:https://www.bestfriendsfurever.com
X-WR-CALDESC:Events for Best Friends Fur Ever
REFRESH-INTERVAL;VALUE=DURATION:PT1H
X-Robots-Tag:noindex
X-PUBLISHED-TTL:PT1H
BEGIN:VTIMEZONE
TZID:America/New_York
BEGIN:DAYLIGHT
TZOFFSETFROM:-0500
TZOFFSETTO:-0400
TZNAME:EDT
DTSTART:20200308T070000
END:DAYLIGHT
BEGIN:STANDARD
TZOFFSETFROM:-0400
TZOFFSETTO:-0500
TZNAME:EST
DTSTART:20201101T060000
END:STANDARD
BEGIN:DAYLIGHT
TZOFFSETFROM:-0500
TZOFFSETTO:-0400
TZNAME:EDT
DTSTART:20210314T070000
END:DAYLIGHT
BEGIN:STANDARD
TZOFFSETFROM:-0400
TZOFFSETTO:-0500
TZNAME:EST
DTSTART:20211107T060000
END:STANDARD
BEGIN:DAYLIGHT
TZOFFSETFROM:-0500
TZOFFSETTO:-0400
TZNAME:EDT
DTSTART:20220313T070000
END:DAYLIGHT
BEGIN:STANDARD
TZOFFSETFROM:-0400
TZOFFSETTO:-0500
TZNAME:EST
DTSTART:20221106T060000
END:STANDARD
END:VTIMEZONE
BEGIN:VEVENT
DTSTART;TZID=America/New_York:20210920T180000
DTEND;TZID=America/New_York:20211015T235900
DTSTAMP:20260424T184958
CREATED:20210922T232324Z
LAST-MODIFIED:20221024T190234Z
UID:4710-1632160800-1634342340@www.bestfriendsfurever.com
SUMMARY:Pin-Up Pups Calendar Contest
DESCRIPTION:Your pup could be the next centerfold! \nWe are building a 2022 calendar and want to feature all of our beautiful dogs. Twelve winners will be chosen by the Best Friends Fur Ever team\, one for each month of the year. (All dogs submitted will become a part of the daily pic on the calendar!) \nWhat do you have to do to enter?\nSubmit a centerfold-worthy photo of your pup by Friday\, October 15th\, 2021 for a chance to be in our calendar exclusively featuring the four-legged ladies and gents of Best Friends Fur Ever! \nHave a pup-arazzi style photoshoot with your pooch! Have fun with seasonal and holiday-themed costumes\, props\, and backgrounds. It could be a silly shot\, glam shot\, action shot\, adorable naptime shot\, etc. Twelve paw-fect photos will be chosen for each month by the team at Best Friends Fur Ever. \nCalendars will be available for purchase later in the year and a portion of proceeds will be donated to help our friends at FARM (Fallston Animal Rescue Movement). \nCheck back soon for the winners!
URL:https://www.bestfriendsfurever.com/event/pin-up-pups-calendar-contest/
ATTACH;FMTTYPE=image/png:https://www.bestfriendsfurever.com/wp-content/uploads/2021/09/BFF_PinUpLogo-1-e1632352934643-1.png
END:VEVENT
BEGIN:VEVENT
DTSTART;TZID=America/New_York:20210925T160000
DTEND;TZID=America/New_York:20210925T190000
DTSTAMP:20260424T184958
CREATED:20210614T194859Z
LAST-MODIFIED:20221024T190234Z
UID:4401-1632585600-1632596400@www.bestfriendsfurever.com
SUMMARY:Party in the Park with Red Dirt Revolution by Baltimore Humane Society
DESCRIPTION:RED DIRT REVOLUTION ROCKS BALTIMORE HUMANE SOCIETY TO BENEFIT THE ANIMALS! This outdoor concert event offers a cash bar\, dinner options\, and more! \nAbout this eventBaltimore Humane Society’s Party in the Park takes Saturday afternoon to the next level! This exciting event features an outdoor afternoon concert featuring Red Dirt Revolution\, the best country music has to offer! \nUpon arrival\, you’ll receive a blanket to secure your spot on the lawn. There will be a cash bar for beer\, wine\, and a signature Tito’s cocktail. We’ll also have pit beef\, pit turkey & vegetarian dinner options for purchase\, plus a few handpicked vendors to shop. \nLawn chairs are allowed\, coolers are not permitted. \nBUY YOUR TICKETS EARLY. Tickets are $50 the day of the show. This is a fundraiser for the Baltimore Humane Society. If this event is canceled due to weather\, refunds will be processed upon request. \nMore information and a link to purchase tickets coming soon!
URL:https://www.bestfriendsfurever.com/event/party-in-the-park-with-red-dirt-revolution-by-baltimore-human-society/
LOCATION:Baltimore Humane Society\, 1601 Nicodemus Road\, Reisterstown\, MD\, 21136\, United States
ATTACH;FMTTYPE=image/jpeg:https://www.bestfriendsfurever.com/wp-content/uploads/2021/06/bffe-rdr-party-in-the-park-1.jpg
END:VEVENT
END:VCALENDAR