BEGIN:VCALENDAR
VERSION:2.0
PRODID:-//Best Friends Fur Ever - ECPv6.15.20//NONSGML v1.0//EN
CALSCALE:GREGORIAN
METHOD:PUBLISH
X-WR-CALNAME:Best Friends Fur Ever
X-ORIGINAL-URL:https://www.bestfriendsfurever.com
X-WR-CALDESC:Events for Best Friends Fur Ever
REFRESH-INTERVAL;VALUE=DURATION:PT1H
X-Robots-Tag:noindex
X-PUBLISHED-TTL:PT1H
BEGIN:VTIMEZONE
TZID:America/New_York
BEGIN:DAYLIGHT
TZOFFSETFROM:-0500
TZOFFSETTO:-0400
TZNAME:EDT
DTSTART:20210314T070000
END:DAYLIGHT
BEGIN:STANDARD
TZOFFSETFROM:-0400
TZOFFSETTO:-0500
TZNAME:EST
DTSTART:20211107T060000
END:STANDARD
BEGIN:DAYLIGHT
TZOFFSETFROM:-0500
TZOFFSETTO:-0400
TZNAME:EDT
DTSTART:20220313T070000
END:DAYLIGHT
BEGIN:STANDARD
TZOFFSETFROM:-0400
TZOFFSETTO:-0500
TZNAME:EST
DTSTART:20221106T060000
END:STANDARD
BEGIN:DAYLIGHT
TZOFFSETFROM:-0500
TZOFFSETTO:-0400
TZNAME:EDT
DTSTART:20230312T070000
END:DAYLIGHT
BEGIN:STANDARD
TZOFFSETFROM:-0400
TZOFFSETTO:-0500
TZNAME:EST
DTSTART:20231105T060000
END:STANDARD
END:VTIMEZONE
BEGIN:VEVENT
DTSTART;VALUE=DATE:20220128
DTEND;VALUE=DATE:20220131
DTSTAMP:20260424T121520
CREATED:20220121T231458Z
LAST-MODIFIED:20260213T164052Z
UID:5183-1643328000-1643587199@www.bestfriendsfurever.com
SUMMARY:World of Pets Expo 2022
DESCRIPTION:Come visit us at the World of Pets Expo! The largest consumer pet show on the East Coast! \nJanuary 28 – 30\, 2022\nFriday: 2pm – 8pm\, Saturday: 10am – 7pm & Sunday: 10am – 5pm\nMaryland State Fairgrounds \nThe perfect weekend for animal and pet lovers! An all-inclusive event filled with entertainment\, educational opportunities\, workshops\, speakers\, shopping\, and shows. \nCome hang out with Best Friends Fur Ever at booths 103 and 104! You may also visit us in the North Hall Clinician Demo Arena at 4pm on Saturday the 29th to learn about our new enrichment and training activities and see them in action. \nPurchase Tickets Now!
URL:https://www.bestfriendsfurever.com/event/world-of-pets-expo/
LOCATION:Maryland State Fairgrounds\, 2200 York Road\, Lutherville-Timonium\, MD\, 21093\, United States
ATTACH;FMTTYPE=image/png:https://www.bestfriendsfurever.com/wp-content/uploads/2022/01/expo-logo2.png
END:VEVENT
END:VCALENDAR