BEGIN:VCALENDAR
VERSION:2.0
PRODID:-//Best Friends Fur Ever - ECPv6.15.20//NONSGML v1.0//EN
CALSCALE:GREGORIAN
METHOD:PUBLISH
X-WR-CALNAME:Best Friends Fur Ever
X-ORIGINAL-URL:https://www.bestfriendsfurever.com
X-WR-CALDESC:Events for Best Friends Fur Ever
REFRESH-INTERVAL;VALUE=DURATION:PT1H
X-Robots-Tag:noindex
X-PUBLISHED-TTL:PT1H
BEGIN:VTIMEZONE
TZID:America/New_York
BEGIN:DAYLIGHT
TZOFFSETFROM:-0500
TZOFFSETTO:-0400
TZNAME:EDT
DTSTART:20210314T070000
END:DAYLIGHT
BEGIN:STANDARD
TZOFFSETFROM:-0400
TZOFFSETTO:-0500
TZNAME:EST
DTSTART:20211107T060000
END:STANDARD
BEGIN:DAYLIGHT
TZOFFSETFROM:-0500
TZOFFSETTO:-0400
TZNAME:EDT
DTSTART:20220313T070000
END:DAYLIGHT
BEGIN:STANDARD
TZOFFSETFROM:-0400
TZOFFSETTO:-0500
TZNAME:EST
DTSTART:20221106T060000
END:STANDARD
BEGIN:DAYLIGHT
TZOFFSETFROM:-0500
TZOFFSETTO:-0400
TZNAME:EDT
DTSTART:20230312T070000
END:DAYLIGHT
BEGIN:STANDARD
TZOFFSETFROM:-0400
TZOFFSETTO:-0500
TZNAME:EST
DTSTART:20231105T060000
END:STANDARD
END:VTIMEZONE
BEGIN:VEVENT
DTSTART;TZID=America/New_York:20220506T143000
DTEND;TZID=America/New_York:20220506T183000
DTSTAMP:20260424T060354
CREATED:20220308T231218Z
LAST-MODIFIED:20221107T181602Z
UID:5885-1651847400-1651861800@www.bestfriendsfurever.com
SUMMARY:Black Tie and Tails 2022
DESCRIPTION:The Baltimore Humane Society is Ready to Celebrate its 95th Anniversary! \nBlack Tie and Tails is one of the Baltimore Humane Society’s best-attended fundraising events and the region’s only black-tie event where guests are encouraged to bring their pet! This gala features an elegant seated dinner\, open bar\, music\, a pet fashion show\, and a live and silent auction. \nPurchase Tickets Now!
URL:https://www.bestfriendsfurever.com/event/black-tie-and-tails-2022/
LOCATION:Grand Lodge in Hunt Valley\, 304 International Circle\, Cockeysville\, MD\, 21030\, United States
ATTACH;FMTTYPE=image/png:https://www.bestfriendsfurever.com/wp-content/uploads/2022/03/Black-Tie-Tails-1-3-e1646781118302.png
ORGANIZER;CN="Baltimore Human Society":MAILTO:adminservices@bmorehumane.org
END:VEVENT
END:VCALENDAR