BEGIN:VCALENDAR
VERSION:2.0
PRODID:-//Best Friends Fur Ever - ECPv6.15.20//NONSGML v1.0//EN
CALSCALE:GREGORIAN
METHOD:PUBLISH
X-WR-CALNAME:Best Friends Fur Ever
X-ORIGINAL-URL:https://www.bestfriendsfurever.com
X-WR-CALDESC:Events for Best Friends Fur Ever
REFRESH-INTERVAL;VALUE=DURATION:PT1H
X-Robots-Tag:noindex
X-PUBLISHED-TTL:PT1H
BEGIN:VTIMEZONE
TZID:America/New_York
BEGIN:DAYLIGHT
TZOFFSETFROM:-0500
TZOFFSETTO:-0400
TZNAME:EDT
DTSTART:20210314T070000
END:DAYLIGHT
BEGIN:STANDARD
TZOFFSETFROM:-0400
TZOFFSETTO:-0500
TZNAME:EST
DTSTART:20211107T060000
END:STANDARD
BEGIN:DAYLIGHT
TZOFFSETFROM:-0500
TZOFFSETTO:-0400
TZNAME:EDT
DTSTART:20220313T070000
END:DAYLIGHT
BEGIN:STANDARD
TZOFFSETFROM:-0400
TZOFFSETTO:-0500
TZNAME:EST
DTSTART:20221106T060000
END:STANDARD
BEGIN:DAYLIGHT
TZOFFSETFROM:-0500
TZOFFSETTO:-0400
TZNAME:EDT
DTSTART:20230312T070000
END:DAYLIGHT
BEGIN:STANDARD
TZOFFSETFROM:-0400
TZOFFSETTO:-0500
TZNAME:EST
DTSTART:20231105T060000
END:STANDARD
END:VTIMEZONE
BEGIN:VEVENT
DTSTART;TZID=America/New_York:20221001T110000
DTEND;TZID=America/New_York:20221001T160000
DTSTAMP:20260423T220400
CREATED:20220915T200847Z
LAST-MODIFIED:20221102T122609Z
UID:6072-1664622000-1664640000@www.bestfriendsfurever.com
SUMMARY:Cockeysville Kidsfest
DESCRIPTION:Saturday\, October 1 \n11:00am – 4:00pm \nThis is the festival your child has been dreaming of! A festival that caters solely to children. FREE ADMISSION! \n\nMoon Bounces\nInflatable Slides & Hoops\nCarnival Games & Prizes\nFood Truck\nLocal Business Vendors\nDJ & Music\n\nVisit Website
URL:https://www.bestfriendsfurever.com/event/cockeysville-kidsfest/
ATTACH;FMTTYPE=image/jpeg:https://www.bestfriendsfurever.com/wp-content/uploads/2022/09/kidfest.jpg
END:VEVENT
BEGIN:VEVENT
DTSTART;TZID=America/New_York:20221002T113000
DTEND;TZID=America/New_York:20221002T133000
DTSTAMP:20260423T220400
CREATED:20220915T201851Z
LAST-MODIFIED:20221102T122726Z
UID:6079-1664710200-1664717400@www.bestfriendsfurever.com
SUMMARY:Blessing of the Animals
DESCRIPTION:Sunday\, October 2 \n11:30am – 1:30pm: Pet Fair\, Giveaways\, Best Friends Fur Ever on site \n12:00pm – 12:30pm: Paw and Praise Worship Service \nMt. Carmel Chapel \n2234 Old Emmorton Rd.\, Bel Air\, MD 21014 \n(corner of Wheel and Old Emmorton) \n \n 
URL:https://www.bestfriendsfurever.com/event/blessing-of-the-animals/
ATTACH;FMTTYPE=image/jpeg:https://www.bestfriendsfurever.com/wp-content/uploads/2022/09/pet-blessing-1.jpg
END:VEVENT
BEGIN:VEVENT
DTSTART;TZID=America/New_York:20221015T110000
DTEND;TZID=America/New_York:20221015T160000
DTSTAMP:20260423T220400
CREATED:20220830T222241Z
LAST-MODIFIED:20221107T181454Z
UID:9263-1665831600-1665849600@www.bestfriendsfurever.com
SUMMARY:Baltimore Humane Society's Dogfest
DESCRIPTION:The Baltimore Humane Society is excited to announce Dogfest on October 15 from 11am-4pm. \nDogfest is their largest fundraiser and community event and takes place on their 365-acre property at 1601 Nicodemus Road\, Reisterstown\, MD 21136. They expect to have 3\,000 animal lovers in attendance for this pet-centric day full of games\, contests\, food\, and fun. \nDogs will be able to play games with their people or watch as other pups partake in the fun! There will be plenty of activities for the pups\, including Simon Says\, 20 yard dash\, bubble chase\, paw painting and fun in the sand. There will be opportunities to try out an agility or lure course\, too! Plus\, we’ll have some doggie demos like Rally-O! \nThey will have contests and prizes for: Best Halloween Costume\, Best Kisser\, Best Dancer\, Best Owner/Pet Look-alike\, Catch the Treat\, Musical Sit and Best Pet Trick. \nThere will be pet-themed arts & crafts\, face painting\, and a bounce house to engage the kids\, pet rescue groups with adoptable animals\, and loads of vendors and food trucks. \nNEW THIS YEAR: Trunk or Treat for both kids and pets! \nPURCHASE TICKETS NOW! \nRain date: Sunday\, October 16 from 11am-4pm.
URL:https://www.bestfriendsfurever.com/event/baltimore-humane-societys-dogfest/
LOCATION:Baltimore Humane Society\, 1601 Nicodemus Road\, Reisterstown\, MD\, 21136\, United States
ATTACH;FMTTYPE=image/jpeg:https://www.bestfriendsfurever.com/wp-content/uploads/2022/08/dogfest-use.jpg
END:VEVENT
BEGIN:VEVENT
DTSTART;VALUE=DATE:20221029
DTEND;VALUE=DATE:20221030
DTSTAMP:20260423T220400
CREATED:20221018T204618Z
LAST-MODIFIED:20221101T203646Z
UID:9264-1667001600-1667087999@www.bestfriendsfurever.com
SUMMARY:BARCStoberfest
DESCRIPTION:18th Annual BARCStoberfest\nIt’s Back! Saturday\, October 29\, 2022\nBARCStoberfest is an annual\, large scale\, pet-friendly festival and fundraiser that benefits the lifesaving programs and animal care at the Baltimore Animal Rescue and Care Shelter (BARCS). The Patterson Park festival includes a 5K Run/1-Mile Walk\, Pet Costume Contest\, Beer Garden vendors\, kids’ activities and more! Fundraising leading up to BARCStoberfest raises critical funding for Maryland’s highest volume\, open-admission shelter serving 10\,000 animals per year. Our goal this year is $350\,000\, so please join us to raise funds for animals in need in our community. \nLearn More & Register \n 
URL:https://www.bestfriendsfurever.com/event/barcstoberfest/
ATTACH;FMTTYPE=image/png:https://www.bestfriendsfurever.com/wp-content/uploads/2022/10/barcstoberfest.png
END:VEVENT
END:VCALENDAR