BEGIN:VCALENDAR
VERSION:2.0
PRODID:-//Best Friends Fur Ever - ECPv6.15.20//NONSGML v1.0//EN
CALSCALE:GREGORIAN
METHOD:PUBLISH
X-ORIGINAL-URL:https://www.bestfriendsfurever.com
X-WR-CALDESC:Events for Best Friends Fur Ever
REFRESH-INTERVAL;VALUE=DURATION:PT1H
X-Robots-Tag:noindex
X-PUBLISHED-TTL:PT1H
BEGIN:VTIMEZONE
TZID:America/New_York
BEGIN:DAYLIGHT
TZOFFSETFROM:-0500
TZOFFSETTO:-0400
TZNAME:EDT
DTSTART:20210314T070000
END:DAYLIGHT
BEGIN:STANDARD
TZOFFSETFROM:-0400
TZOFFSETTO:-0500
TZNAME:EST
DTSTART:20211107T060000
END:STANDARD
BEGIN:DAYLIGHT
TZOFFSETFROM:-0500
TZOFFSETTO:-0400
TZNAME:EDT
DTSTART:20220313T070000
END:DAYLIGHT
BEGIN:STANDARD
TZOFFSETFROM:-0400
TZOFFSETTO:-0500
TZNAME:EST
DTSTART:20221106T060000
END:STANDARD
BEGIN:DAYLIGHT
TZOFFSETFROM:-0500
TZOFFSETTO:-0400
TZNAME:EDT
DTSTART:20230312T070000
END:DAYLIGHT
BEGIN:STANDARD
TZOFFSETFROM:-0400
TZOFFSETTO:-0500
TZNAME:EST
DTSTART:20231105T060000
END:STANDARD
END:VTIMEZONE
BEGIN:VEVENT
DTSTART;VALUE=DATE:20221125
DTEND;VALUE=DATE:20230101
DTSTAMP:20260423T190408
CREATED:20221117T142712Z
LAST-MODIFIED:20260213T164013Z
UID:11806-1669334400-1672531199@www.bestfriendsfurever.com
SUMMARY:Deck The Paws 2022 (Joppa Location)
DESCRIPTION:As a proud supporter of The Harford County Humane Society\, Best Friends Fur Ever is sponsoring the 2022 Deck The Paws Fundraising Event. \nWe’re asking our valued Joppa clients to purchase a $1 paw print sticker to be hung up in our lobby. On that sticker\, you can write the name of your pup\, or honor the memory of a pup that has crossed the rainbow bridge. All donations will go directly to the Harford Humane Society to care for the animals waiting to be placed in their furever homes.
URL:https://www.bestfriendsfurever.com/event/deck-the-paws-joppa-location-2/
ATTACH;FMTTYPE=image/jpeg:https://www.bestfriendsfurever.com/wp-content/uploads/2022/11/Deck-the-Paws-Logo.jpg
END:VEVENT
BEGIN:VEVENT
DTSTART;VALUE=DATE:20221203
DTEND;VALUE=DATE:20221204
DTSTAMP:20260423T190408
CREATED:20221107T181240Z
LAST-MODIFIED:20230104T151242Z
UID:11199-1670025600-1670111999@www.bestfriendsfurever.com
SUMMARY:25th Annual Holiday Parade
DESCRIPTION:Join us on Saturday\, December 3rd\, as we celebrate the season with local high school marching bands\, street performers\, mascots\, dance troops and so much more – all leading up to the big guy in the red suit! \n\nWe are going to be gathering at the parking lot across the street from the old Sears at White Marsh Mall (you’ll see our BFFE van)\nThe parade is rain or shine\nClients get a free day of daycare if you come in and walk with us\nSignup sheets are at Joppa and Cockeysville or call us to get your name on the list\nThe parade starts at 10am\, but clients please arrive by 9:30 to join us\nWe’ll have coffee\, hot chocolate\, and donuts for everyone\nWe’ll have dog treats for the pups
URL:https://www.bestfriendsfurever.com/event/25th-annual-holiday-parade/
ATTACH;FMTTYPE=image/png:https://www.bestfriendsfurever.com/wp-content/uploads/2022/11/Holiday-Parade-Cover-Photo-980x552-1.png
END:VEVENT
END:VCALENDAR